BEGIN:VCALENDAR
VERSION:2.0
PRODID:-//Karmalt - ECPv6.14.0//NONSGML v1.0//EN
CALSCALE:GREGORIAN
METHOD:PUBLISH
X-ORIGINAL-URL:https://www.karmalt.com
X-WR-CALDESC:Karmalt için eğitimler
REFRESH-INTERVAL;VALUE=DURATION:PT1H
X-Robots-Tag:noindex
X-PUBLISHED-TTL:PT1H
BEGIN:VTIMEZONE
TZID:Europe/Moscow
BEGIN:STANDARD
TZOFFSETFROM:+0300
TZOFFSETTO:+0300
TZNAME:MSK
DTSTART:20260101T000000
END:STANDARD
END:VTIMEZONE
BEGIN:VEVENT
DTSTART;TZID=Europe/Moscow:20260327T150200
DTEND;TZID=Europe/Moscow:20260327T150200
DTSTAMP:20260425T013112
CREATED:20250812T191929Z
LAST-MODIFIED:20260326T062516Z
UID:10000107-1774623720-1774623720@www.karmalt.com
SUMMARY:Gıda Hukuku Akademisi\, İstanbul
DESCRIPTION:Kayıt Ol\n\nGıda Hukuku Akademisi\nGıda Hukukunda İdari ve Hukuki Sorumluluk: Taklit ve Tağşiş\, İfşa\, Denetim ve Üreticinin Hukuki (Tazminat) Sorumluluğu \nGıda güvenliği\, yalnızca teknik ve bilimsel bir konu olmanın ötesinde\, idare hukuku ve ceza hukuku boyutlarıyla da büyük önem taşımaktadır. Bu kapsamda bu yıl ikincisi İstanbul’da düzenlenecek eğitimde\, taklit ve tağşiş yapan gıda işletmecilerinin ifşası uygulaması\, idari yaptırım niteliği çerçevesinde ele alınacak; ifşa mekanizmasının hukuki dayanakları\, ölçülülük ilkesi\, temel hak ve özgürlüklerle ilişkisi ayrıntılı biçimde değerlendirilecektir. Gıda Güvenliği Derneği Başkan Yardımcısı Dr. Samim Saner\, Innovoss CEO’su ve TGDF Genel Sekreteri Nihal Ayşe MORTEPE  açılış konuşmalarıyla programa değer katacaktır. \nEğitimin ilk bölümünde\, Prof. Dr. Remziye Yılmaz tarafından Türkiye’de biyogüvenlik rejimi ve biyoteknoloji regülasyonları ele alınacaktır. \nProf. Dr. Yasin Söyler\, idare hukuku perspektifinden gıdada taklit ve tağşişe karşı uygulanan ifşa yaptırımını değerlendirecektir. Devamında\, Prof. Dr. Hayrunnisa Özdemir (Ankara Sosyal Bilimler Üniversitesi Hukuk Fakültesi)\, “Gıda Üreticisinin Tazminat Sorumluluğu” başlığı altında gıda kaynaklı zararlar\, üretici sorumluluğu ve Gıda Ceza Hukuku kapsamında doğabilecek hukuki ve cezai sonuçları ele alacaktır. \nGıda ürünlerinin ihracat ve ithalat denetimi Doç. Dr. Talat Kaya tarafından aktarılacak; Gıda reklamlarının reklam hukuku kapsamında değerlendirilmesi konusu ise Erdem Biçer tarafından ele alınacaktır. \nProgram\, Gıdalarda Uygulanabilir Bir Mevzuat Yapısına Kavuşmak’ konulu oturum ile sona erecektir. \nOturum; Emel Molla moderatörlüğünde  Didem Altuntaş\, Feyza Başak Coşkun  ve İpek İşbitiren katılımları ile gerçekleşecektir. \nEtkinlik\, gıda ve gıdaya hizmet sunan\, ürün tedariki sağlayan sektörlerde faaliyet gösteren profesyoneller\, hukukçular\, akademisyenler ve öğrenciler için\, gıda mevzuatının idari ve cezai boyutlarını bütüncül bir bakış açısıyla ele alan önemli bir başvuru kaynağı olmayı amaçlamaktadır. \nAmaç: \n\nGıda Hukuku konusunda tarafları bir araya getirerek güncel konular hakkında bilgilendirmek\,\nYargı mensupları\, avukatlar\, akademi gibi çevreleri bir araya getirerek konun önemine dikkat çekmek.\nKanun koyucu ve uygulayıcılara ışık tutmak\nBilgi kirliliğinin önüne geçmek\nUygulanabilir bir mevzuat yapısına kavuşmak\n\nKimler Katılmalı?  \n\n Gıda sektöründe görev yapan satınalma\, pazarlama\, regülasyon\, AR-GE\, denetim ve mevzuat uzmanları\n Tarım\, gıda\, biyoteknoloji ve hukuk alanlarında lisansüstü (yüksek lisans ve doktora)öğrencileri\n Gıda hukukuyla ilgilenen avukatlar ve kamu görevlileri\n Kurumsal düzeyde gıda mevzuatı ve uluslararası uyum süreçlerinde görev alan tüm profesyoneller\n\nProgram Koordinatörü: Prof. Dr. Remziye Yılmaz (Hacettepe Üniversitesi\, Uluslararası Gıda Biyogüvenlik ve Biyoteknoloji Araştırma ve Yayım Merkezi) \n\nProgram sonunda katılımcılara katılım sertifikası verilecektir.\nProgram Akışı
URL:https://www.karmalt.com/egitim/gida-hukuku-akademisi/
LOCATION:Mercure Altunizade Otel\, Altunizade\, Altunizade Mah. Kisikli Cad\, Oymacı Sk. No:9\, 34662 Üsküdar\, İstanbul
ATTACH;FMTTYPE=image/jpeg:https://www.karmalt.com/wp-content/uploads/2024/02/mevzuat-danismanligi-foto-karmalt.jpg
END:VEVENT
END:VCALENDAR